BEGIN:VCALENDAR
VERSION:2.0
PRODID:-//TWI - ECPv6.15.20//NONSGML v1.0//EN
CALSCALE:GREGORIAN
METHOD:PUBLISH
X-ORIGINAL-URL:https://twi.academy
X-WR-CALDESC:Veranstaltungen für TWI
REFRESH-INTERVAL;VALUE=DURATION:PT1H
X-Robots-Tag:noindex
X-PUBLISHED-TTL:PT1H
BEGIN:VTIMEZONE
TZID:Europe/Berlin
BEGIN:DAYLIGHT
TZOFFSETFROM:+0100
TZOFFSETTO:+0200
TZNAME:CEST
DTSTART:20250330T010000
END:DAYLIGHT
BEGIN:STANDARD
TZOFFSETFROM:+0200
TZOFFSETTO:+0100
TZNAME:CET
DTSTART:20251026T010000
END:STANDARD
BEGIN:DAYLIGHT
TZOFFSETFROM:+0100
TZOFFSETTO:+0200
TZNAME:CEST
DTSTART:20260329T010000
END:DAYLIGHT
BEGIN:STANDARD
TZOFFSETFROM:+0200
TZOFFSETTO:+0100
TZNAME:CET
DTSTART:20261025T010000
END:STANDARD
BEGIN:DAYLIGHT
TZOFFSETFROM:+0100
TZOFFSETTO:+0200
TZNAME:CEST
DTSTART:20270328T010000
END:DAYLIGHT
BEGIN:STANDARD
TZOFFSETFROM:+0200
TZOFFSETTO:+0100
TZNAME:CET
DTSTART:20271031T010000
END:STANDARD
END:VTIMEZONE
BEGIN:VEVENT
DTSTART;TZID=Europe/Berlin:20260220T100000
DTEND;TZID=Europe/Berlin:20260222T150000
DTSTAMP:20260422T233226
CREATED:20260325T123533Z
LAST-MODIFIED:20260325T153534Z
UID:10000460-1771581600-1771772400@twi.academy
SUMMARY:Pfälzer Burgtagung Altleinigen des Pferdesportverband Pfalz
DESCRIPTION:Vorträge zum Thema:  \nVeränderung der Pferdefütterung  \nAdipositas
URL:https://twi.academy/event/evt-2026-02-20/
LOCATION:Burg Altleinigen\, Altleinigen\, 67317\, Germany
CATEGORIES:Sonstige Veranstaltungen
END:VEVENT
END:VCALENDAR